Workbook

Sheet 纳入门特用药范围管理药品名单152种（办门特+国谈药）
A1: 恶性肿瘤治疗期名单
A2: 序号 | B2: 药品名称 | C2: 剂型 | D2: 门特项目 | E2: 国家药品编码 | F2: 药品规格 | G2: 药品 商品名 | H2: 最小包装数量 | I2: 最小制剂单位 | J2: 最小包装单位 | K2: 批次
A3: 1 | B3: 帕妥珠单抗注射液 | C3: 注射剂 | D3: 恶性肿瘤治疗期 | E3: XL01FDP138B002010181735 | F3: 420mg(14ml)/瓶每个西林瓶含有14ml浓缩液,浓度为30 mg/mL,含420mg帕妥珠单抗 | G3: 帕捷特 | H3: 1 | I3: 瓶 | J3: 瓶 | K3: 第一批（2021.8.1起）
E4: XL01FDP138B002010282983 | F4: 420mg(14ml)/瓶 | G4: 帕乐坦 | H4: 1 | I4: 瓶 | J4: 盒
E5: XL01FDP138B002010104021 | F5: 420mg(14ml)/瓶 | G5: 安赛珠 | H5: 1 | I5: 瓶 | J5: 盒
E6: XL01FDP138B002010104611 | F6: 420mg(14ml)/瓶 | G6: 贝泽汀 | H6: 1 | I6: 瓶 | J6: 盒
A7: 2 | B7: 信迪利单抗注射液 | C7: 注射剂 | D7: 恶性肿瘤治疗期 | E7: XL01FFX242B002010181451 | F7: 10ml:100mg | G7: 达伯舒 | H7: 1 | I7: =VLOOKUP(E7,[1]对接情况!$A:$E,5,FALSE) -> 瓶 | J7: =VLOOKUP(E7,[1]对接情况!$A:$F,6,FALSE) -> 盒
A8: 3 | B8: 盐酸阿来替尼胶囊 | C8: 胶囊剂 | D8: 恶性肿瘤治疗期 | E8: XL01EDA314E001010182435 | F8: 150mg(按C₃₀H₃₄N₄O₂计) | G8: 安圣莎 | H8: 224 | I8: 粒 | J8: 盒
A9: 4 | B9: 呋喹替尼胶囊 | C9: 口服常释剂型 | D9: 恶性肿瘤治疗期 | E9: XL01EKF709E001010110171 | F9: 1mg | G9: 爱优特 英文：Elunate | H9: 21 | I9: =VLOOKUP(E9,[1]对接情况!$A:$E,5,FALSE) -> 粒 | J9: =VLOOKUP(E9,[1]对接情况!$A:$F,6,FALSE) -> 盒
E10: XL01EKF709E001020110171 | F10: 5mg | G10: 爱优特 英文：Elunate | H10: 7 | I10: =VLOOKUP(E10,[1]对接情况!$A:$E,5,FALSE) -> 粒 | J10: =VLOOKUP(E10,[1]对接情况!$A:$F,6,FALSE) -> 盒
A11: 5 | B11: 马来酸吡咯替尼片 | C11: 口服常释剂型 | D11: 恶性肿瘤治疗期 | E11: XL01EHB228A001020101445 | F11: 160mg | G11: 艾瑞妮 | H11: 28 | I11: =VLOOKUP(E11,[1]对接情况!$A:$E,5,FALSE) -> 片 | J11: =VLOOKUP(E11,[1]对接情况!$A:$F,6,FALSE) -> 瓶
E12: XL01EHB228A001010101445 | F12: 80mg | G12: 艾瑞妮 | H12: 14 | I12: =VLOOKUP(E12,[1]对接情况!$A:$E,5,FALSE) -> 片 | J12: =VLOOKUP(E12,[1]对接情况!$A:$F,6,FALSE) -> 瓶
E13: XL01EHB228A001010201445 | F13: 80mg | G13: 艾瑞妮 | H13: 100 | I13: =VLOOKUP(E13,[1]对接情况!$A:$E,5,FALSE) -> 片 | J13: =VLOOKUP(E13,[1]对接情况!$A:$F,6,FALSE) -> 瓶
A14: 6 | B14: 磷酸芦可替尼片 | C14: 口服常释剂型 | D14: 恶性肿瘤治疗期 | E14: XL01EJL356A001010178672 | F14: 5mg | G14: 捷恪卫 | H14: 14 | I14: 片 | J14: 盒
E15: XL01EJL356A001010378672 | F15: 5mg | G15: 捷恪卫 | H15: 60 | I15: 片 | J15: 盒
A16: 7 | B16: 奥拉帕利片 | C16: 口服常释剂型 | D16: 恶性肿瘤治疗期 | E16: XL01XKA316A001020179096 | F16: 0.15g | G16: 利普卓 | H16: 56 | I16: 片 | J16: 盒
E17: XL01XKA316A001020279096 | F17: 0.15g | G17: 利普卓 | H17: 112 | I17: 片 | J17: 盒
E18: XL01XKA316A001010179096 | F18: 0.1g | G18: 利普卓 | H18: 56 | I18: 片 | J18: 盒
E19: XL01XKA316A001010279096 | F19: 0.1g | G19: 利普卓 | H19: 112 | I19: 片 | J19: 盒
E20: XL01XKA316A001020105847 | F20: 150mg | G20: 无 | H20: 60 | I20: =VLOOKUP(E20,[1]对接情况!$A:$E,5,FALSE) -> 片 | J20: =VLOOKUP(E20,[1]对接情况!$A:$F,6,FALSE) -> 瓶
E21: XL01XKA316A001010105847 | F21: 100mg | G21: 无 | H21: 60 | I21: =VLOOKUP(E21,[1]对接情况!$A:$E,5,FALSE) -> 片 | J21: =VLOOKUP(E21,[1]对接情况!$A:$F,6,FALSE) -> 瓶
E22: XL01XKA316A001010205345 | F22: 150mg | G22: 无 | H22: 60 | I22: =VLOOKUP(E22,[1]对接情况!$A:$E,5,FALSE) -> 片 | J22: =VLOOKUP(E22,[1]对接情况!$A:$F,6,FALSE) -> 盒
E23: XL01XKA316A001010104948 | F23: 150mg | G23: 无 | H23: 56 | I23: =VLOOKUP(E23,[1]对接情况!$A:$E,5,FALSE) -> 片 | J23: =VLOOKUP(E23,[1]对接情况!$A:$F,6,FALSE) -> 盒
E24: XL01XKA316A001010102770 | F24: 100mg | G24: 无 | H24: 56 | I24: 片 | J24: 盒
E25: XL01XKA316A001020102770 | F25: 150mg | G25: 无 | H25: 56 | I25: 片 | J25: 盒
C26: 片剂(薄膜衣片) | E26: XL01XKA316A001010183343 | F26: 150mg | G26: 无 | H26: 56 | I26: 片 | J26: 盒
E27: XL01XKA316A001010183135 | F27: 150mg | G27: 无 | H27: 56 | I27: 片 | J27: 盒
E28: XL01XKA316A001020204520 | F28: 150mg | G28: 无 | H28: 60 | I28: 片 | J28: 盒
E29: XL01XKA316A001020184131 | F29: 150mg | G29: 无 | H29: 30 | I29: 片 | J29: 盒
E30: XL01XKA316A001020183135 | F30: 100mg | G30: 无 | H30: 56 | I30: 片 | J30: 盒
A31: 8 | B31: 尼妥珠单抗注射液 | C31: 注射剂 | D31: 恶性肿瘤治疗期 | E31: XL01FGN048B002010107857 | F31: 50mg/瓶（10mL） | G31: 泰欣生 | H31: 1 | I31: =VLOOKUP(E31,[1]对接情况!$A:$E,5,FALSE) -> 瓶 | J31: =VLOOKUP(E31,[1]对接情况!$A:$F,6,FALSE) -> 盒
A32: 9 | B32: 甲磺酸阿帕替尼片 | C32: 口服常释剂型 | D32: 恶性肿瘤治疗期 | E32: XL01EKA288A001010301445 | F32: 0.25g(以阿帕替尼计) | G32: 艾坦 | H32: 30 | I32: =VLOOKUP(E32,[1]对接情况!$A:$E,5,FALSE) -> 片 | J32: =VLOOKUP(E32,[1]对接情况!$A:$F,6,FALSE) -> 盒
E33: XL01EKA288A001030201445 | F33: 0.425g | G33: 艾坦 | H33: 14 | I33: =VLOOKUP(E33,[1]对接情况!$A:$E,5,FALSE) -> 片 | J33: =VLOOKUP(E33,[1]对接情况!$A:$F,6,FALSE) -> 盒
E34: XL01EKA288A001010101445 | F34: 0.25g | G34: 艾坦 | H34: 10 | I34: =VLOOKUP(E34,[1]对接情况!$A:$E,5,FALSE) -> 片 | J34: =VLOOKUP(E34,[1]对接情况!$A:$F,6,FALSE) -> 盒
E35: XL01EKA288A001030101445 | F35: 0.425g | G35: 艾坦 | H35: 10 | I35: =VLOOKUP(E35,[1]对接情况!$A:$E,5,FALSE) -> 片 | J35: =VLOOKUP(E35,[1]对接情况!$A:$F,6,FALSE) -> 盒
E36: XL01EKA288A001020101445 | F36: 0.375g | G36: 艾坦 | H36: 10 | I36: =VLOOKUP(E36,[1]对接情况!$A:$E,5,FALSE) -> 片 | J36: =VLOOKUP(E36,[1]对接情况!$A:$F,6,FALSE) -> 盒
E37: XL01EKA288A001010201445 | F37: 0.25g(以阿帕替尼计) | G37: 艾坦 | H37: 14 | I37: =VLOOKUP(E37,[1]对接情况!$A:$E,5,FALSE) -> 片 | J37: =VLOOKUP(E37,[1]对接情况!$A:$F,6,FALSE) -> 盒
A38: 10 | B38: 重组人血管内皮抑制素注射液 | C38: 注射剂 | D38: 恶性肿瘤治疗期 | E38: XL01XXC116B002010104184 | F38: 15mg/2.4×105U/3ml/支 | G38: 恩度 | H38: 1 | I38: =VLOOKUP(E38,[1]对接情况!$A:$E,5,FALSE) -> 支 | J38: =VLOOKUP(E38,[1]对接情况!$A:$F,6,FALSE) -> 盒
A39: 11 | B39: 西达本胺片 | C39: 口服常释剂型 | D39: 恶性肿瘤治疗期 | E39: XL01XXX228A001010109758 | F39: 5mg | G39: 爱谱沙 | H39: 24 | I39: =VLOOKUP(E39,[1]对接情况!$A:$E,5,FALSE) -> 片 | J39: =VLOOKUP(E39,[1]对接情况!$A:$F,6,FALSE) -> 盒
A40: 12 | B40: 依维莫司片 | C40: 口服常释剂型 | D40: 恶性肿瘤治疗期 | E40: XL04AAY270A001010178679 | F40: 2.5mg | G40: 飞尼妥 | H40: 30 | I40: =VLOOKUP(E40,[1]对接情况!$A:$E,5,FALSE) -> 片 | J40: =VLOOKUP(E40,[1]对接情况!$A:$F,6,FALSE) -> 盒
...

Sheet 国谈药门诊专项保障药品名单117+8（只办国谈药备案）
A1: 国谈药门诊专项保障药品名单
A2: 序号 | B2: 药品名称 | C2: 剂型 | D2: 管理方式 | E2: 国家药品编码 | F2: 药品规格 | G2: 药品商品名 | H2: 最小包装数量 | I2: 最小制剂单位 | J2: 最小包装单位 | K2: 批次
A3: 1 | B3: 巴瑞替尼片 | C3: 口服常释剂型 | D3: 双通道管理及单独支付 | E3: XL04AAB233A001010178403 | F3: 2mg (以C16H17N7O2S计) | G3: 艾乐明 | H3: 28 | I3: =VLOOKUP(E3,[1]对接情况!$A:$E,5,FALSE) -> 片 | J3: =VLOOKUP(E3,[1]对接情况!$A:$F,6,FALSE) -> 盒 | K3: 第一批（2021.8.1起）
E4: XL04AAB233A001010180542 | F4: 2mg | G4: 无 | H4: 28 | I4: =VLOOKUP(E4,[1]对接情况!$A:$E,5,FALSE) -> 片 | J4: =VLOOKUP(E4,[1]对接情况!$A:$F,6,FALSE) -> 盒
C5: 片剂 | E5: XL04AAB233A001010180537 | F5: 2mg(按C₁₆H₁₇N₇O₂S计) | G5: 无 | H5: 28 | I5: 片 | J5: 盒
E6: XL04AAB233A001010104494 | F6: 2mg(按C₁₆H₁₇N₇O₂S计) | G6: 无 | H6: 28 | I6: 片 | J6: 瓶
E7: XL04AAB233A001010383034 | F7: 2mg(按C₁₆H₁₇N₇O₂S计) | G7: 无 | H7: 28 | I7: 片 | J7: 盒
E8: XL04AAB233A001010683034 | F8: 2mg(按C₁₆H₁₇N₇O₂S计) | G8: 无 | H8: 14 | I8: 片 | J8: 盒
E9: XL04AAB233A001010483034 | F9: 2mg(按C₁₆H₁₇N₇O₂S计) | G9: 无 | H9: 56 | I9: 片 | J9: 盒
A10: 2 | B10: 依那西普注射液 | C10: 注射剂 | D10: 双通道管理及单独支付 | E10: XL04ABY251B002020178724 | F10: 0.94ml:50mg | G10: 恩利 | H10: 2 | I10: =VLOOKUP(E10,[1]对接情况!$A:$E,5,FALSE) -> 支 | J10: =VLOOKUP(E10,[1]对接情况!$A:$F,6,FALSE) -> 盒
E11: XL04ABY251B002010178724 | F11: 0.47ml:25mg | G11: 恩利 | H11: 4 | I11: =VLOOKUP(E11,[1]对接情况!$A:$E,5,FALSE) -> 支 | J11: =VLOOKUP(E11,[1]对接情况!$A:$F,6,FALSE) -> 盒
E12: XL04ABY251B002010278724 | F12: 0.47ml:25mg | G12: 恩利 | H12: 1 | I12: =VLOOKUP(E12,[1]对接情况!$A:$E,5,FALSE) -> 支 | J12: =VLOOKUP(E12,[1]对接情况!$A:$F,6,FALSE) -> 支
A13: 3 | B13: 司库奇尤单抗注射液 | C13: 注射剂 | D13: 双通道管理及单独支付 | E13: XL04ACS271B002030178679 | F13: 1ml:150mg | G13: 可善挺 | H13: 1 | I13: =VLOOKUP(E13,[1]对接情况!$A:$E,5,FALSE) -> 支 | J13: =VLOOKUP(E13,[1]对接情况!$A:$F,6,FALSE) -> 盒
E14: XL04ACS271B002050178679 | F14: 2ml:300mg | G14: 可善挺 | H14: 1 | I14: =VLOOKUP(E14,[1]对接情况!$A:$E,5,FALSE) -> 支 | J14: =VLOOKUP(E14,[1]对接情况!$A:$F,6,FALSE) -> 盒
E15: XL04ACS271B002040178679 | F15: 0.5ml: 75mg | G15: 可善挺 | H15: 1 | I15: =VLOOKUP(E15,[1]对接情况!$A:$E,5,FALSE) -> 支 | J15: =VLOOKUP(E15,[1]对接情况!$A:$F,6,FALSE) -> 盒
A16: 4 | B16: 司来帕格片 | C16: 口服常释剂型 | D16: 双通道管理及单独支付 | E16: XB01ACS270A001030178189 | F16: 0.8mg | G16: 优拓比 | H16: 60 | I16: =VLOOKUP(E16,[1]对接情况!$A:$E,5,FALSE) -> 片 | J16: =VLOOKUP(E16,[1]对接情况!$A:$F,6,FALSE) -> 盒
E17: XB01ACS270A001020178189 | F17: 0.6mg | G17: 优拓比 | H17: 60 | I17: =VLOOKUP(E17,[1]对接情况!$A:$E,5,FALSE) -> 片 | J17: =VLOOKUP(E17,[1]对接情况!$A:$F,6,FALSE) -> 盒
E18: XB01ACS270A001010278189 | F18: 0.2mg | G18: 优拓比 | H18: 140 | I18: =VLOOKUP(E18,[1]对接情况!$A:$E,5,FALSE) -> 片 | J18: =VLOOKUP(E18,[1]对接情况!$A:$F,6,FALSE) -> 盒
E19: XB01ACS270A001010178189 | F19: 0.2mg | G19: 优拓比 | H19: 60 | I19: =VLOOKUP(E19,[1]对接情况!$A:$E,5,FALSE) -> 片 | J19: =VLOOKUP(E19,[1]对接情况!$A:$F,6,FALSE) -> 盒
E20: XB01ACS270A001020104522 | F20: 按司来帕格(C₂₆H₃₂N₄O₄S)计0.4mg | G20: 无 | H20: 56 | I20: 片 | J20: 盒
E21: XB01ACS270A001010204522 | F21: 按司来帕格(C₂₆H₃₂N₄O₄S)计0.2mg | G21: 无 | H21: 56 | I21: 片 | J21: 盒
C22: 片剂 | E22: XB01ACS270A001030204522 | F22: 按司来帕格(C₂₆H₃₂N₄O₄S)计0.8mg | G22: 无 | H22: 56 | I22: 片 | J22: 盒
E23: XB01ACS270A001010201444 | F23: 0.2mg | G23: 无 | H23: 60 | I23: 片 | J23: 盒
A24: 5 | B24: 波生坦 | C24: 口服常释剂型 | D24: 双通道管理及单独支付 | E24: XC02KXB144A006010178189 | F24: 32mg | G24: 全可利 | H24: 56 | I24: 片 | J24: 盒
E25: XC02KXB144A001010178189 | F25: 125mg(以C27H29N5O6S计) | G25: 全可利 | H25: 56 | I25: =VLOOKUP(E25,[1]对接情况!$A:$E,5,FALSE) -> 片 | J25: =VLOOKUP(E25,[1]对接情况!$A:$F,6,FALSE) -> 盒
A26: 6 | B26: 利奥西呱片 | C26: 口服常释剂型 | D26: 双通道管理及单独支付 | E26: XC02KXL363A001030178269 | F26: 2.5mg | G26: 安吉奥 | H26: 84 | I26: =VLOOKUP(E26,[1]对接情况!$A:$E,5,FALSE) -> 片 | J26: =VLOOKUP(E26,[1]对接情况!$A:$F,6,FALSE) -> 盒
E27: XC02KXL363A001020178269 | F27: 1mg | G27: 安吉奥 | H27: 42 | I27: =VLOOKUP(E27,[1]对接情况!$A:$E,5,FALSE) -> 片 | J27: =VLOOKUP(E27,[1]对接情况!$A:$F,6,FALSE) -> 盒
E28: XC02KXL363A001010178269 | F28: 0.5mg | G28: 安吉奥 | H28: 42 | I28: =VLOOKUP(E28,[1]对接情况!$A:$E,5,FALSE) -> 片 | J28: =VLOOKUP(E28,[1]对接情况!$A:$F,6,FALSE) -> 盒
E29: XC02KXL363A001020104021 | F29: 2.5mg | G29: 无 | H29: 42 | I29: 片 | J29: 盒
E30: XC02KXL363A001010104021 | F30: 1mg | G30: 无 | H30: 42 | I30: 片 | J30: 盒
C31: 片剂 | E31: XC02KXL363A001020284941 | F31: 2.5mg | G31: 无 | H31: 84 | I31: 片 | J31: 盒
E32: XC02KXL363A001010184941 | F32: 1mg | G32: 无 | H32: 42 | I32: 片 | J32: 盒
E33: XC02KXL363A001020184941 | F33: 2.5mg | G33: 无 | H33: 42 | I33: 片 | J33: 盒
E34: XC02KXL363A001030104565 | F34: 2.5mg | G34: 无 | H34: 42 | I34: 片 | J34: 盒
E35: XC02KXL363A001020104565 | F35: 1mg | G35: 无 | H35: 42 | I35: 片 | J35: 盒
A36: 7 | B36: 马昔腾坦片 | C36: 口服常释剂型 | D36: 双通道管理及单独支付 | E36: XC02KXM170A001010178189 | F36: 10mg | G36: 傲朴舒 | H36: 30 | I36: =VLOOKUP(E36,[1]对接情况!$A:$E,5,FALSE) -> 片 | J36: =VLOOKUP(E36,[1]对接情况!$A:$F,6,FALSE) -> 盒
E37: XC02KXM170A001010101606 | F37: 10mg | G37: 无 | H37: 30 | I37: =VLOOKUP(E37,[1]对接情况!$A:$E,5,FALSE) -> 片 | J37: =VLOOKUP(E37,[1]对接情况!$A:$F,6,FALSE) -> 盒
E38: XC02KXM170A001010104520 | F38: 10mg | G38: 无 | H38: 30 | I38: =VLOOKUP(E38,[1]对接情况!$A:$E,5,FALSE) -> 片 | J38: =VLOOKUP(E38,[1]对接情况!$A:$F,6,FALSE) -> 盒
E39: XC02KXM170A001010184207 | F39: 10mg | G39: 无 | H39: 30 | I39: =VLOOKUP(E39,[1]对接情况!$A:$E,5,FALSE) -> 片 | J39: =VLOOKUP(E39,[1]对接情况!$A:$F,6,FALSE) -> 盒
E40: XC02KXM170A001010183339 | F40: 10mg | G40: 无 | H40: 30 | I40: =VLOOKUP(E40,[1]对接情况!$A:$E,5,FALSE) -> 片 | J40: =VLOOKUP(E40,[1]对接情况!$A:$F,6,FALSE) -> 盒
...

Sheet 特殊情况说明
A1: 表1 纳入门特管理或按双通道管理及单独支付药品
A2: 序号 | B2: 药品名称 | C2: 药品限定支付范围 | D2: 纳入门特管理 （需办理国谈药备案及相应门特备案） | F2: 双通道管理及单独支付限定支付范围 （仅需办理国谈药备案）
D3: 病种名称 | E3: 限定支付范围
A4: 1 | B4: 注射用醋酸奥曲肽微球 | C4: 限胃肠胰内分泌肿瘤、肢端肥大症。 | D4: 恶性肿瘤治疗期 | E4: 限胃肠胰内分泌肿瘤。 | F4: 限肢端肥大症。 | G4: XH01CBA213B015010178679、XH01CBA213B015020178679、XH01CBA213B015020104021、XH01CBA213B015010104021
A5: 2 | B5: 泊沙康唑口服混悬液 | C5: 限以下情况方可支付：1.预防移植后（干细胞及实体器官移植）及恶性肿瘤患者有重度粒细胞缺乏的侵袭性曲霉菌和念球菌感染。2.伊曲康唑或氟康唑难治性口咽念珠菌病。3.接合菌纲类感染。 | D5: 恶性肿瘤治疗期、抗排异 | E5: 限以下情况方可支付：预防移植后（干细胞及实体器官移植）及恶性肿瘤患者有重度粒细胞缺乏的侵袭性曲霉菌和念球菌感染。 | F5: 限以下情况方可支付：1.伊曲康唑或氟康唑难治性口咽念珠菌病。2.接合菌纲类感染。 | G5: XJ02ACB206X002010180007、XJ02ACB206X002010104948
A6: 3 | B6: 依维莫司片 | C6: 限：1. 既往接受舒尼替尼或索拉非尼治疗失败的晚期肾细胞癌成人患者；2.不可切除的、局部晚期或转移性的、分化良好的(中度分化或高度分化)进展期胰腺神经内分泌瘤成人患者；3. 无法手术切除的、局部晚期或转移性的、分化良好的、进展期非功能性胃肠道或肺源神经内分泌肿瘤(NET)成人患者；4. 需要治疗干预但不适于手术切除的结节性硬化症(TSC)相关的室管膜下巨细胞星形细胞瘤(SEGA)成人和儿童患者；5. 用于治疗不需立即手术治疗的结节性硬化症相关的肾血管平滑肌脂肪瘤(TSC-AML)成人患者；6.来曲唑或阿那曲唑治疗失败后的激素受体阳性、表皮生长因子受体-2阴性、绝经后晚期女性乳腺癌患者。 | D6: 恶性肿瘤治疗期 | E6: 限：1. 既往接受舒尼替尼或索拉非尼治疗失败的晚期肾细胞癌成人患者；2.不可切除的、局部晚期或转移性的、分化良好的(中度分化或高度分化)进展期胰腺神经内分泌瘤成人患者；3. 无法手术切除的、局部晚期或转移性的、分化良好的、进展期非功能性胃肠道或肺源神经内分泌肿瘤(NET)成人患者；4. 需要治疗干预但不适于手术切除的结节性硬化症(TSC)相关的室管膜下巨细胞星形细胞瘤(SEGA)成人和儿童患者；5.来曲唑或阿那曲唑治疗失败后的激素受体阳性、表皮生长因子受体-2阴性、绝经后晚期女性乳腺癌患者。 | F6: 限：用于治疗不需立即手术治疗的结节性硬化症相关的肾血管平滑肌脂肪瘤(TSC-AML)成人患者。 | G6: XL04AAY270A001010178679、XL04AAY270A001020178679、XL04AAY270A001010201523、XL04AAY270A001010183445、XL04AAY270A001010104650、XL04AAY270A001020104650
A7: 4 | B7: 达雷妥尤单抗注射液(皮下注射) | C7: 限：1.与来那度胺和地塞米松联合用药或与硼替佐米、美法仑和泼尼松联合用药治疗不适合自体干细胞移植的新诊断的多发性骨髓瘤成年患者；2.与来那度胺和地塞米松联合用药或与硼替佐米和地塞米松联合用药治疗既往至少接受过一线治疗的多发性骨髓瘤成年患者；3.与泊马度胺和地塞米松联合用药治疗既往接受过至少一线治疗(包括来那度胺和蛋白酶体抑制剂)的多发性骨髓瘤患者；4.单药治疗复发和难治性多发性骨髓瘤成年患者，患者既往接受过包括蛋白酶体抑制剂和免疫调节剂的治疗且最后一次治疗时出现疾病进展；本方案不适合也不推荐用于患有NYHA ⅢB级或Ⅳ级心脏疾病或Mayo ⅢB期的原发性轻链型淀粉样变患者；5.限新诊断的原发性轻链型淀粉样变患者。本方案不适合也不推荐用于患有NYHA ⅢB级或Ⅳ级心脏疾病或Mayo ⅢB期的原发性轻链型淀粉样变患者。 | D7: 恶性肿瘤治疗期 | E7: 限：1.与来那度胺和地塞米松联合用药或与硼替佐米、美法仑和泼尼松联合用药治疗不适合自体干细胞移植的新诊断的多发性骨髓瘤成年患者；2.与来那度胺和地塞米松联合用药或与硼替佐米和地塞米松联合用药治疗既往至少接受过一线治疗的多发性骨髓瘤成年患者；3.与泊马度胺和地塞米松联合用药治疗既往接受过至少一线治疗(包括来那度胺和蛋白酶体抑制剂)的多发性骨髓瘤患者；4.单药治疗复发和难治性多发性骨髓瘤成年患者，患者既往接受过包括蛋白酶体抑制剂和免疫调节剂的治疗且最后一次治疗时出现疾病进展；本方案不适合也不推荐用于患有NYHA ⅢB级或Ⅳ级心脏疾病或Mayo ⅢB期的原发性轻链型淀粉样变患者。 | F7: 限新诊断的原发性轻链型淀粉样变患者。本方案不适合也不推荐用于患有NYHA ⅢB级或Ⅳ级心脏疾病或Mayo ⅢB期的原发性轻链型淀粉样变患者。 | G7: XL01FCD337B002030178537
A8: 5 | B8: 磷酸芦可替尼片 | C8: 限：1.中危或高危的原发性骨髓纤维化(PMF)(亦称为慢性特发性骨髓纤维化)、真性红细胞增多症继发的骨髓纤维化(PPV-MF)或原发性血小板增多症继发的骨髓纤维化(PET-MF)的成年患者；2.对糖皮质激素或其他系统治疗应答不充分的12岁及以上急性移植物抗宿主病(急性GVHD)或慢性移植物抗宿主病(慢性GVHD)患者。 | D8: 恶性肿瘤治疗期 | E8: 限：中危或高危的原发性骨髓纤维化(PMF)(亦称为慢性特发性骨髓纤维化)、真性红细胞增多症继发的骨髓纤维化(PPV-MF)或原发性血小板增多症继发的骨髓纤维化(PET-MF)的成年患者。 | F8: 限：对糖皮质激素或其他系统治疗应答不充分的12岁及以上急性移植物抗宿主病(急性GVHD)或慢性移植物抗宿主病(慢性GVHD)患者。 | G8: XL01EJL356A001010178672、XL01EJL356A001010378672
A10: 表2 按乙类药品管理或按双通道管理及单独支付药品
A11: 序号 | B11: 药品名称 | C11: 药品限定支付范围 | D11: 限定支付范围
D12: 按乙类药品管理管理 （无国谈药备案） | F12: 双通道管理及单独支付 （需办理国谈药备案）
A13: 1 | B13: 沙库巴曲缬沙坦钠片 | C13: 限：1.射血分数降低的慢性心力衰竭(NYHAⅡ-Ⅳ级，LVEF≤40%)成人患者；2.原发性高血压。 | D13: 原发性高血压。 | F13: 射血分数降低的慢性心力衰竭(NYHAⅡ-Ⅳ级，LVEF≤40%)成人患者。

Sheet 定点医药机构名单
A1: 序号 | B1: 定点单位名称 | C1: 行政区域 | D1: 机构性质
A2: 1 | B2: 苏州大学附属第一医院（苏州市第一人民医院） | C2: 市区 | D2: 医院
A3: 2 | B3: 苏州大学附属第二医院、核工业总医院、苏州大学附属第二医院互联网医院 | C3: 市区 | D3: 医院
A4: 3 | B4: 苏州市立医院（本部）、苏州市立医院互联网医院 | C4: 市区 | D4: 医院
A5: 4 | B5: 苏州市立医院（北区） | C5: 市区 | D5: 医院
A6: 5 | B6: 苏州市立医院（东区）、苏州市立医院互联网医院 | C6: 市区 | D6: 医院
A7: 6 | B7: 苏州市中医医院、苏州市中医医院互联网医院 | C7: 市区 | D7: 医院
A8: 7 | B8: 苏州市第五人民医院（苏州市传染病医院） | C8: 市区 | D8: 医院
A9: 8 | B9: 苏州市广济医院 | C9: 市区 | D9: 医院
A10: 9 | B10: 苏州大学附属儿童医院、苏州大学附属儿童医院互联网医院 | C10: 市区 | D10: 医院
A11: 10 | B11: 苏州九龙医院 | C11: 市区 | D11: 医院
A12: 11 | B12: 苏州明基医院、苏州明基医院互联网医院 | C12: 市区 | D12: 医院
A13: 12 | B13: 苏州科技城医院 | C13: 市区 | D13: 医院
... A181: 76 | B181: 京东大药房连锁（江苏）有限公司苏州苏大附医店 | C181: 市区 | D181: 药店
