Workbook

Sheet 纳入门特用药范围管理药品名单152种（办门特+国谈药）
A1: 恶性肿瘤治疗期名单
A2: 序号 | B2: 药品名称 | C2: 剂型 | D2: 门特项目 | E2: 国家药品编码 | F2: 药品规格 | G2: 药品 商品名 | H2: 最小包装数量 | I2: 最小制剂单位 | J2: 最小包装单位 | K2: 批次
A3: 1 | B3: 帕妥珠单抗注射液 | C3: 注射剂 | D3: 恶性肿瘤治疗期 | E3: XL01FDP138B002010181735 | F3: 420mg(14ml)/瓶每个西林瓶含有14ml浓缩液,浓度为30 mg/mL,含420mg帕妥珠单抗 | G3: 帕捷特 | H3: 1 | I3: 瓶 | J3: 瓶 | K3: 第一批（2021.8.1起）
E4: XL01FDP138B002010282983 | F4: 420mg(14ml)/瓶 | G4: 帕乐坦 | H4: 1 | I4: 瓶 | J4: 盒
E5: XL01FDP138B002010104021 | F5: 420mg(14ml)/瓶 | G5: 安赛珠 | H5: 1 | I5: 瓶 | J5: 盒
E6: XL01FDP138B002010104611 | F6: 420mg(14ml)/瓶 | G6: 贝泽汀 | H6: 1 | I6: 瓶 | J6: 盒
A7: 2 | B7: 信迪利单抗注射液 | C7: 注射剂 | D7: 恶性肿瘤治疗期 | E7: XL01FFX242B002010181451 | F7: 10ml:100mg | G7: 达伯舒 | H7: 1 | I7: =VLOOKUP(E7,[1]对接情况!$A:$E,5,FALSE) -> 瓶 | J7: =VLOOKUP(E7,[1]对接情况!$A:$F,6,FALSE) -> 盒
A8: 3 | B8: 盐酸阿来替尼胶囊 | C8: 胶囊剂 | D8: 恶性肿瘤治疗期 | E8: XL01EDA314E001010182435 | F8: 150mg(按C₃₀H₃₄N₄O₂计) | G8: 安圣莎 | H8: 224 | I8: 粒 | J8: 盒
A9: 4 | B9: 呋喹替尼胶囊 | C9: 口服常释剂型 | D9: 恶性肿瘤治疗期 | E9: XL01EKF709E001010110171 | F9: 1mg | G9: 爱优特 英文：Elunate | H9: 21 | I9: =VLOOKUP(E9,[1]对接情况!$A:$E,5,FALSE) -> 粒 | J9: =VLOOKUP(E9,[1]对接情况!$A:$F,6,FALSE) -> 盒
E10: XL01EKF709E001020110171 | F10: 5mg | G10: 爱优特 英文：Elunate | H10: 7 | I10: =VLOOKUP(E10,[1]对接情况!$A:$E,5,FALSE) -> 粒 | J10: =VLOOKUP(E10,[1]对接情况!$A:$F,6,FALSE) -> 盒
A11: 5 | B11: 马来酸吡咯替尼片 | C11: 口服常释剂型 | D11: 恶性肿瘤治疗期 | E11: XL01EHB228A001020101445 | F11: 160mg | G11: 艾瑞妮 | H11: 28 | I11: =VLOOKUP(E11,[1]对接情况!$A:$E,5,FALSE) -> 片 | J11: =VLOOKUP(E11,[1]对接情况!$A:$F,6,FALSE) -> 瓶
E12: XL01EHB228A001010101445 | F12: 80mg | G12: 艾瑞妮 | H12: 14 | I12: =VLOOKUP(E12,[1]对接情况!$A:$E,5,FALSE) -> 片 | J12: =VLOOKUP(E12,[1]对接情况!$A:$F,6,FALSE) -> 瓶
E13: XL01EHB228A001010201445 | F13: 80mg | G13: 艾瑞妮 | H13: 100 | I13: =VLOOKUP(E13,[1]对接情况!$A:$E,5,FALSE) -> 片 | J13: =VLOOKUP(E13,[1]对接情况!$A:$F,6,FALSE) -> 瓶
A14: 6 | B14: 磷酸芦可替尼片 | C14: 口服常释剂型 | D14: 恶性肿瘤治疗期 | E14: XL01EJL356A001010178672 | F14: 5mg | G14: 捷恪卫 | H14: 14 | I14: 片 | J14: 盒
E15: XL01EJL356A001010378672 | F15: 5mg | G15: 捷恪卫 | H15: 60 | I15: 片 | J15: 盒
A16: 7 | B16: 奥拉帕利片 | C16: 口服常释剂型 | D16: 恶性肿瘤治疗期 | E16: XL01XKA316A001020179096 | F16: 0.15g | G16: 利普卓 | H16: 56 | I16: 片 | J16: 盒
E17: XL01XKA316A001020279096 | F17: 0.15g | G17: 利普卓 | H17: 112 | I17: 片 | J17: 盒
E18: XL01XKA316A001010179096 | F18: 0.1g | G18: 利普卓 | H18: 56 | I18: 片 | J18: 盒
E19: XL01XKA316A001010279096 | F19: 0.1g | G19: 利普卓 | H19: 112 | I19: 片 | J19: 盒
E20: XL01XKA316A001020105847 | F20: 150mg | G20: 无 | H20: 60 | I20: =VLOOKUP(E20,[1]对接情况!$A:$E,5,FALSE) -> 片 | J20: =VLOOKUP(E20,[1]对接情况!$A:$F,6,FALSE) -> 瓶
E21: XL01XKA316A001010105847 | F21: 100mg | G21: 无 | H21: 60 | I21: =VLOOKUP(E21,[1]对接情况!$A:$E,5,FALSE) -> 片 | J21: =VLOOKUP(E21,[1]对接情况!$A:$F,6,FALSE) -> 瓶
E22: XL01XKA316A001010205345 | F22: 150mg | G22: 无 | H22: 60 | I22: =VLOOKUP(E22,[1]对接情况!$A:$E,5,FALSE) -> 片 | J22: =VLOOKUP(E22,[1]对接情况!$A:$F,6,FALSE) -> 盒
E23: XL01XKA316A001010104948 | F23: 150mg | G23: 无 | H23: 56 | I23: =VLOOKUP(E23,[1]对接情况!$A:$E,5,FALSE) -> 片 | J23: =VLOOKUP(E23,[1]对接情况!$A:$F,6,FALSE) -> 盒
E24: XL01XKA316A001010102770 | F24: 100mg | G24: 无 | H24: 56 | I24: 片 | J24: 盒
E25: XL01XKA316A001020102770 | F25: 150mg | G25: 无 | H25: 56 | I25: 片 | J25: 盒
C26: 片剂(薄膜衣片) | E26: XL01XKA316A001010183343 | F26: 150mg | G26: 无 | H26: 56 | I26: 片 | J26: 盒
E27: XL01XKA316A001010183135 | F27: 150mg | G27: 无 | H27: 56 | I27: 片 | J27: 盒
E28: XL01XKA316A001020204520 | F28: 150mg | G28: 无 | H28: 60 | I28: 片 | J28: 盒
E29: XL01XKA316A001020184131 | F29: 150mg | G29: 无 | H29: 30 | I29: 片 | J29: 盒
E30: XL01XKA316A001020183135 | F30: 100mg | G30: 无 | H30: 56 | I30: 片 | J30: 盒
A31: 8 | B31: 尼妥珠单抗注射液 | C31: 注射剂 | D31: 恶性肿瘤治疗期 | E31: XL01FGN048B002010107857 | F31: 50mg/瓶（10mL） | G31: 泰欣生 | H31: 1 | I31: =VLOOKUP(E31,[1]对接情况!$A:$E,5,FALSE) -> 瓶 | J31: =VLOOKUP(E31,[1]对接情况!$A:$F,6,FALSE) -> 盒
A32: 9 | B32: 甲磺酸阿帕替尼片 | C32: 口服常释剂型 | D32: 恶性肿瘤治疗期 | E32: XL01EKA288A001010301445 | F32: 0.25g(以阿帕替尼计) | G32: 艾坦 | H32: 30 | I32: =VLOOKUP(E32,[1]对接情况!$A:$E,5,FALSE) -> 片 | J32: =VLOOKUP(E32,[1]对接情况!$A:$F,6,FALSE) -> 盒
E33: XL01EKA288A001030201445 | F33: 0.425g | G33: 艾坦 | H33: 14 | I33: =VLOOKUP(E33,[1]对接情况!$A:$E,5,FALSE) -> 片 | J33: =VLOOKUP(E33,[1]对接情况!$A:$F,6,FALSE) -> 盒
E34: XL01EKA288A001010101445 | F34: 0.25g | G34: 艾坦 | H34: 10 | I34: =VLOOKUP(E34,[1]对接情况!$A:$E,5,FALSE) -> 片 | J34: =VLOOKUP(E34,[1]对接情况!$A:$F,6,FALSE) -> 盒
E35: XL01EKA288A001030101445 | F35: 0.425g | G35: 艾坦 | H35: 10 | I35: =VLOOKUP(E35,[1]对接情况!$A:$E,5,FALSE) -> 片 | J35: =VLOOKUP(E35,[1]对接情况!$A:$F,6,FALSE) -> 盒
E36: XL01EKA288A001020101445 | F36: 0.375g | G36: 艾坦 | H36: 10 | I36: =VLOOKUP(E36,[1]对接情况!$A:$E,5,FALSE) -> 片 | J36: =VLOOKUP(E36,[1]对接情况!$A:$F,6,FALSE) -> 盒
E37: XL01EKA288A001010201445 | F37: 0.25g(以阿帕替尼计) | G37: 艾坦 | H37: 14 | I37: =VLOOKUP(E37,[1]对接情况!$A:$E,5,FALSE) -> 片 | J37: =VLOOKUP(E37,[1]对接情况!$A:$F,6,FALSE) -> 盒
A38: 10 | B38: 重组人血管内皮抑制素注射液 | C38: 注射剂 | D38: 恶性肿瘤治疗期 | E38: XL01XXC116B002010104184 | F38: 15mg/2.4×105U/3ml/支 | G38: 恩度 | H38: 1 | I38: =VLOOKUP(E38,[1]对接情况!$A:$E,5,FALSE) -> 支 | J38: =VLOOKUP(E38,[1]对接情况!$A:$F,6,FALSE) -> 盒
A39: 11 | B39: 西达本胺片 | C39: 口服常释剂型 | D39: 恶性肿瘤治疗期 | E39: XL01XXX228A001010109758 | F39: 5mg | G39: 爱谱沙 | H39: 24 | I39: =VLOOKUP(E39,[1]对接情况!$A:$E,5,FALSE) -> 片 | J39: =VLOOKUP(E39,[1]对接情况!$A:$F,6,FALSE) -> 盒
A40: 12 | B40: 依维莫司片 | C40: 口服常释剂型 | D40: 恶性肿瘤治疗期 | E40: XL04AAY270A001010178679 | F40: 2.5mg | G40: 飞尼妥 | H40: 30 | I40: =VLOOKUP(E40,[1]对接情况!$A:$E,5,FALSE) -> 片 | J40: =VLOOKUP(E40,[1]对接情况!$A:$F,6,FALSE) -> 盒
E41: XL04AAY270A001020178679 | F41: 5mg | G41: 飞尼妥 | H41: 30 | I41: =VLOOKUP(E41,[1]对接情况!$A:$E,5,FALSE) -> 片 | J41: =VLOOKUP(E41,[1]对接情况!$A:$F,6,FALSE) -> 盒
E42: XL04AAY270A001010201523 | F42: 2.5mg | G42: 无 | H42: 28 | I42: =VLOOKUP(E42,[1]对接情况!$A:$E,5,FALSE) -> 片 | J42: =VLOOKUP(E42,[1]对接情况!$A:$F,6,FALSE) -> 盒
E43: XL04AAY270A001010183445 | F43: 5mg | G43: 无 | H43: 30 | I43: 片 | J43: 盒
C44: 片剂 | E44: XL04AAY270A001010104650 | F44: 2.5mg | G44: 无 | H44: 30 | I44: 片 | J44: 盒
E45: XL04AAY270A001020104650 | F45: 5mg | G45: 无 | H45: 30 | I45: 片 | J45: 盒
A46: 13 | B46: 西妥昔单抗注射液 | C46: 注射剂 | D46: 恶性肿瘤治疗期 | E46: XL01FEX020B002010178635 | F46: 100mg/20ml/瓶 | G46: 爱必妥 | H46: 1 | I46: 瓶 | J46: 盒
A47: 14 | B47: 甲磺酸奥希替尼片 | C47: 口服常释剂型 | D47: 恶性肿瘤治疗期 | E47: XL01EBA298A001020279096 | F47: 80mg | G47: 泰瑞沙 | H47: 30 | I47: 片 | J47: 盒
A48: 15 | B48: 盐酸安罗替尼胶囊 | C48: 口服常释剂型 | D48: 恶性肿瘤治疗期 | E48: XL01EKA309E001020101523 | F48: 10mg | G48: 福可维 | H48: 7 | I48: =VLOOKUP(E48,[1]对接情况!$A:$E,5,FALSE) -> 粒 | J48: =VLOOKUP(E48,[1]对接情况!$A:$F,6,FALSE) -> 盒
E49: XL01EKA309E001020201523 | F49: 10mg | G49: 福可维 | H49: 14 | I49: =VLOOKUP(E49,[1]对接情况!$A:$E,5,FALSE) -> 粒 | J49: =VLOOKUP(E49,[1]对接情况!$A:$F,6,FALSE) -> 盒
E50: XL01EKA309E001030101523 | F50: 12mg | G50: 福可维 | H50: 7 | I50: =VLOOKUP(E50,[1]对接情况!$A:$E,5,FALSE) -> 粒 | J50: =VLOOKUP(E50,[1]对接情况!$A:$F,6,FALSE) -> 盒
E51: XL01EKA309E001030201523 | F51: 12mg | G51: 福可维 | H51: 14 | I51: =VLOOKUP(E51,[1]对接情况!$A:$E,5,FALSE) -> 粒 | J51: =VLOOKUP(E51,[1]对接情况!$A:$F,6,FALSE) -> 盒
E52: XL01EKA309E001010101523 | F52: 8mg | G52: 福可维 | H52: 7 | I52: =VLOOKUP(E52,[1]对接情况!$A:$E,5,FALSE) -> 粒 | J52: =VLOOKUP(E52,[1]对接情况!$A:$F,6,FALSE) -> 盒
E53: XL01EKA309E001010201523 | F53: 8mg | G53: 福可维 | H53: 14 | I53: =VLOOKUP(E53,[1]对接情况!$A:$E,5,FALSE) -> 粒 | J53: =VLOOKUP(E53,[1]对接情况!$A:$F,6,FALSE) -> 盒
A54: 16 | B54: 克唑替尼胶囊 | C54: 口服常释剂型 | D54: 恶性肿瘤治疗期 | E54: XL01EDK116E001020278718 | F54: 250mg | G54: 赛可瑞 | H54: 60 | I54: =VLOOKUP(E54,[1]对接情况!$A:$E,5,FALSE) -> 粒 | J54: =VLOOKUP(E54,[1]对接情况!$A:$F,6,FALSE) -> 瓶
E55: XL01EDK116E001010278718 | F55: 200mg | G55: 赛可瑞 | H55: 60 | I55: =VLOOKUP(E55,[1]对接情况!$A:$E,5,FALSE) -> 粒 | J55: =VLOOKUP(E55,[1]对接情况!$A:$F,6,FALSE) -> 瓶
A56: 17 | B56: 塞瑞替尼胶囊 | C56: 口服常释剂型 | D56: 恶性肿瘤治疗期 | E56: XL01EDS267E001010178672 | F56: 0.15g | G56: 赞可达 | H56: 150 | I56: 粒 | J56: 盒
E57: XL01EDS267E001010101425 | F57: 150mg | G57: 无 | H57: 30 | I57: =VLOOKUP(E57,[1]对接情况!$A:$E,5,FALSE) -> 粒 | J57: =VLOOKUP(E57,[1]对接情况!$A:$F,6,FALSE) -> 盒
A58: 18 | B58: 培唑帕尼片 | C58: 口服常释剂型 | D58: 恶性肿瘤治疗期 | E58: XL01EXP125A001020178679 | F58: 0.2g | G58: 维全特 | H58: 30 | I58: 片 | J58: 瓶
E59: XL01EXP125A001010104021 | F59: 200mg | G59: 无 | H59: 30 | I59: =VLOOKUP(E59,[1]对接情况!$A:$E,5,FALSE) -> 片 | J59: =VLOOKUP(E59,[1]对接情况!$A:$F,6,FALSE) -> 瓶
E60: XL01EXP125A001010101606 | F60: 200mg | G60: 无 | H60: 30 | I60: =VLOOKUP(E60,[1]对接情况!$A:$E,5,FALSE) -> 片 | J60: =VLOOKUP(E60,[1]对接情况!$A:$F,6,FALSE) -> 瓶
E61: XL01EXP125A001010100647 | F61: 200mg | G61: 无 | H61: 30 | I61: =VLOOKUP(E61,[1]对接情况!$A:$E,5,FALSE) -> 片 | J61: =VLOOKUP(E61,[1]对接情况!$A:$F,6,FALSE) -> 瓶
C62: 片剂 | E62: XL01EXP125A001010101533 | F62: 0.2g(按C₂₁H₂₃N₇O₂S计) | G62: 无 | H62: 30 | I62: 片 | J62: 盒
A63: 19 | B63: 瑞戈非尼片 | C63: 口服常释剂型 | D63: 恶性肿瘤治疗期 | E63: XL01EXR081A001010178262 | F63: 40mg | G63: 拜万戈 | H63: 28 | I63: 片 | J63: 盒
E64: XL01EXR081A001010101606 | F64: 40mg | G64: 无 | H64: 28 | I64: =VLOOKUP(E64,[1]对接情况!$A:$E,5,FALSE) -> 片 | J64: =VLOOKUP(E64,[1]对接情况!$A:$F,6,FALSE) -> 盒
E65: XL01EXR081A001010104021 | F65: 40mg | G65: 无 | H65: 28 | I65: =VLOOKUP(E65,[1]对接情况!$A:$E,5,FALSE) -> 片 | J65: =VLOOKUP(E65,[1]对接情况!$A:$F,6,FALSE) -> 盒
E66: XL01EXR081A001010100647 | F66: 40mg | G66: 无 | H66: 28 | I66: =VLOOKUP(E66,[1]对接情况!$A:$E,5,FALSE) -> 片 | J66: =VLOOKUP(E66,[1]对接情况!$A:$F,6,FALSE) -> 瓶
E67: XL01EXR081A001010104522 | F67: 40mg(按C₂₁H₁₅ClF₄N₄O₃计) | G67: 无 | H67: 28 | I67: =VLOOKUP(E67,[1]对接情况!$A:$E,5,FALSE) -> 片 | J67: =VLOOKUP(E67,[1]对接情况!$A:$F,6,FALSE) -> 盒
E68: XL01EXR081A001010104948 | F68: 40mg | G68: 无 | H68: 28 | I68: =VLOOKUP(E68,[1]对接情况!$A:$E,5,FALSE) -> 片 | J68: =VLOOKUP(E68,[1]对接情况!$A:$F,6,FALSE) -> 盒
E69: XL01EXR081A001010184736 | F69: 40mg(按C₂₁H₁₅ClF₄N₄O₃计) | G69: 无 | H69: 28 | I69: =VLOOKUP(E69,[1]对接情况!$A:$E,5,FALSE) -> 片 | J69: =VLOOKUP(E69,[1]对接情况!$A:$F,6,FALSE) -> 盒
E70: XL01EXR081A001010101749 | F70: 40mg | G70: 无 | H70: 28 | I70: 片 | J70: 盒
E71: XL01EXR081A001010284736 | F71: 40mg(按C₂₁H₁₅ClF₄N₄O₃计) | G71: 无 | H71: 84 | I71: 片 | J71: 盒
E72: XL01EXR081A001010102770 | F72: 40mg | G72: 无 | H72: 28 | I72: 片 | J72: 盒
E73: XL01EXR081A001010185391 | F73: 40mg | G73: 无 | H73: 28 | I73: 片 | J73: 盒
C74: 片剂 | E74: XL01EXR081A001010101066 | F74: 40mg | G74: 无 | H74: 28 | I74: 片 | J74: 盒
E75: XL01EXR081A001010100148 | F75: 40mg | G75: 无 | H75: 28 | I75: 片 | J75: 盒
E76: XL01EXR081A001010181966 | F76: 40mg | G76: 无 | H76: 28 | I76: 片 | J76: 盒
A77: 20 | B77: 尼洛替尼胶囊 | C77: 口服常释剂型 | D77: 恶性肿瘤治疗期 | E77: XL01EAN092E001010478679 | F77: 0.15g | G77: 达希纳 | H77: 120 | I77: 粒 | J77: 盒
E78: XL01EAN092E001020478679 | F78: 0.2g | G78: 达希纳 | H78: 120 | I78: 粒 | J78: 盒
E79: XL01XEN092E001040178679 | F79: 50mg | G79: 达希纳 | H79: 120 | I79: =VLOOKUP(E79,[1]对接情况!$A:$E,5,FALSE) -> 粒 | J79: =VLOOKUP(E79,[1]对接情况!$A:$F,6,FALSE) -> 盒
E80: XL01EAN092E001010104021 | F80: 0.2g | G80: 无 | H80: 40 | I80: =VLOOKUP(E80,[1]对接情况!$A:$E,5,FALSE) -> 粒 | J80: =VLOOKUP(E80,[1]对接情况!$A:$F,6,FALSE) -> 盒
E81: XL01EAN092E001020104021 | F81: 150mg | G81: 无 | H81: 40 | I81: =VLOOKUP(E81,[1]对接情况!$A:$E,5,FALSE) -> 粒 | J81: =VLOOKUP(E81,[1]对接情况!$A:$F,6,FALSE) -> 盒
E82: XL01EAN092E001020210121 | F82: 200mg | G82: 无 | H82: 120 | I82: =VLOOKUP(E82,[1]对接情况!$A:$E,5,FALSE) -> 粒 | J82: =VLOOKUP(E82,[1]对接情况!$A:$F,6,FALSE) -> 盒
E83: XL01EAN092E001010210121 | F83: 150mg | G83: 无 | H83: 120 | I83: =VLOOKUP(E83,[1]对接情况!$A:$E,5,FALSE) -> 粒 | J83: =VLOOKUP(E83,[1]对接情况!$A:$F,6,FALSE) -> 盒
C84: 胶囊剂 | E84: XL01EAN092E001010183949 | F84: 150mg(按C₂₈H₂₂F₃N₇O计) | G84: 无 | H84: 40 | I84: 粒 | J84: 盒
E85: XL01EAN092E001020178377 | F85: 200mg(按C₂₈H₂₂F₃N₇O计) | G85: 无 | H85: 120 | I85: 粒 | J85: 盒
E86: XL01EAN092E001010178377 | F86: 150mg(按C₂₈H₂₂F₃N₇O计) | G86: 无 | H86: 120 | I86: 粒 | J86: 盒
A87: 21 | B87: 伊布替尼胶囊 | C87: 口服常释剂型 | D87: 恶性肿瘤治疗期 | E87: XL01ELY299E001010182102 | F87: 140mg | G87: 亿珂 | H87: 90 | I87: 粒 | J87: 盒
A88: 22 | B88: 维莫非尼片 | C88: 口服常释剂型 | D88: 恶性肿瘤治疗期 | E88: XL01ECW108A001010181735 | F88: 240mg | G88: 佐博伏 | H88: 56 | I88: 片 | J88: 盒
A89: 23 | B89: 注射用伊尼妥单抗 | C89: 注射剂 | D89: 恶性肿瘤治疗期 | E89: XL01FDY321B001010181272 | F89: 50mg/支 | G89: 赛普汀 | H89: 1 | I89: =VLOOKUP(E89,[1]对接情况!$A:$E,5,FALSE) -> 支 | J89: =VLOOKUP(E89,[1]对接情况!$A:$F,6,FALSE) -> 盒
A90: 24 | B90: 替雷利珠单抗注射液 | C90: 注射剂 | D90: 恶性肿瘤治疗期 | E90: XL01FFT190B002010182097 | F90: 10ml:100mg | G90: 百泽安 | H90: 1 | I90: 瓶 | J90: 盒
A91: 25 | B91: 特瑞普利单抗注射液 | C91: 注射剂 | D91: 恶性肿瘤治疗期 | E91: XL01FFT181B002030181823 | F91: 240mg(6ml)/瓶 | G91: 拓益 | H91: 1 | I91: 瓶 | J91: 盒
E92: XL01FFT181B002010181823 | F92: 80mg(2ml)/瓶 | G92: 拓益 | H92: 1 | I92: 瓶 | J92: 盒
E93: XL01XCT181B002030181823 | F93: 100mg(2.5ml)/瓶 | G93: 拓益 | H93: 1 | I93: =VLOOKUP(E93,[1]对接情况!$A:$E,5,FALSE) -> 瓶 | J93: =VLOOKUP(E93,[1]对接情况!$A:$F,6,FALSE) -> 盒
A94: 26 | B94: 注射用卡瑞利珠单抗 | C94: 注射剂 | D94: 恶性肿瘤治疗期 | E94: XL01FFK131B001010181825 | F94: 200mg | G94: 艾瑞卡 | H94: 1 | I94: =VLOOKUP(E94,[1]对接情况!$A:$E,5,FALSE) -> 瓶 | J94: =VLOOKUP(E94,[1]对接情况!$A:$F,6,FALSE) -> 瓶
A95: 27 | B95: 甲磺酸氟马替尼片 | C95: 口服常释剂型 | D95: 恶性肿瘤治疗期 | E95: XL01EAF716A001020201444 | F95: 0.2g | G95: 豪森昕福 | H95: 30 | I95: =VLOOKUP(E95,[1]对接情况!$A:$E,5,FALSE) -> 片 | J95: =VLOOKUP(E95,[1]对接情况!$A:$F,6,FALSE) -> 盒
A96: 28 | B96: 甲磺酸阿美替尼片 | C96: 口服常释剂型 | D96: 恶性肿瘤治疗期 | E96: XL01EBA328A001010501444 | F96: 55mg(按C30H35N7O2计) | G96: 阿美乐 | H96: 20 | I96: =VLOOKUP(E96,[1]对接情况!$A:$E,5,FALSE) -> 片 | J96: =VLOOKUP(E96,[1]对接情况!$A:$F,6,FALSE) -> 盒
A97: 29 | B97: 泽布替尼胶囊 | C97: 口服常释剂型 | D97: 恶性肿瘤治疗期 | E97: XL01ELZ104E001010182282 | F97: 80mg | G97: 百悦泽 | H97: 64 | I97: 粒 | J97: 盒
A98: 30 | B98: 曲美替尼片 | C98: 口服常释剂型 | D98: 恶性肿瘤治疗期 | E98: XL01EEQ175A001010378672 | F98: 按C26H23FIN5O4计2mg | G98: 迈吉宁 | H98: 30 | I98: 片 | J98: 瓶
E99: XL01EEQ175A001010478672 | F99: 按C26H23FIN5O4计0.5mg | G99: 迈吉宁 | H99: 30 | I99: 片 | J99: 瓶
A100: 31 | B100: 甲磺酸达拉非尼胶囊 | C100: 口服常释剂型 | D100: 恶性肿瘤治疗期 | E100: XL01ECD340E001010278672 | F100: 50mg(以C23H20F3N5O2S2计) | G100: 泰菲乐 | H100: 120 | I100: 粒 | J100: 瓶
...

Sheet 国谈药门诊专项保障药品名单117+8（只办国谈药备案）
A1: 国谈药门诊专项保障药品名单
A2: 序号 | B2: 药品名称 | C2: 剂型 | D2: 管理方式 | E2: 国家药品编码 | F2: 药品规格 | G2: 药品商品名 | H2: 最小包装数量 | I2: 最小制剂单位 | J2: 最小包装单位 | K2: 批次
A3: 1 | B3: 巴瑞替尼片 | C3: 口服常释剂型 | D3: 双通道管理及单独支付 | E3: XL04AAB233A001010178403 | F3: 2mg (以C16H17N7O2S计) | G3: 艾乐明 | H3: 28 | I3: =VLOOKUP(E3,[1]对接情况!$A:$E,5,FALSE) -> 片 | J3: =VLOOKUP(E3,[1]对接情况!$A:$F,6,FALSE) -> 盒 | K3: 第一批（2021.8.1起）
E4: XL04AAB233A001010180542 | F4: 2mg | G4: 无 | H4: 28 | I4: =VLOOKUP(E4,[1]对接情况!$A:$E,5,FALSE) -> 片 | J4: =VLOOKUP(E4,[1]对接情况!$A:$F,6,FALSE) -> 盒
C5: 片剂 | E5: XL04AAB233A001010180537 | F5: 2mg(按C₁₆H₁₇N₇O₂S计) | G5: 无 | H5: 28 | I5: 片 | J5: 盒
E6: XL04AAB233A001010104494 | F6: 2mg(按C₁₆H₁₇N₇O₂S计) | G6: 无 | H6: 28 | I6: 片 | J6: 瓶
E7: XL04AAB233A001010383034 | F7: 2mg(按C₁₆H₁₇N₇O₂S计) | G7: 无 | H7: 28 | I7: 片 | J7: 盒
E8: XL04AAB233A001010683034 | F8: 2mg(按C₁₆H₁₇N₇O₂S计) | G8: 无 | H8: 14 | I8: 片 | J8: 盒
E9: XL04AAB233A001010483034 | F9: 2mg(按C₁₆H₁₇N₇O₂S计) | G9: 无 | H9: 56 | I9: 片 | J9: 盒
A10: 2 | B10: 依那西普注射液 | C10: 注射剂 | D10: 双通道管理及单独支付 | E10: XL04ABY251B002020178724 | F10: 0.94ml:50mg | G10: 恩利 | H10: 2 | I10: =VLOOKUP(E10,[1]对接情况!$A:$E,5,FALSE) -> 支 | J10: =VLOOKUP(E10,[1]对接情况!$A:$F,6,FALSE) -> 盒
E11: XL04ABY251B002010178724 | F11: 0.47ml:25mg | G11: 恩利 | H11: 4 | I11: =VLOOKUP(E11,[1]对接情况!$A:$E,5,FALSE) -> 支 | J11: =VLOOKUP(E11,[1]对接情况!$A:$F,6,FALSE) -> 盒
E12: XL04ABY251B002010278724 | F12: 0.47ml:25mg | G12: 恩利 | H12: 1 | I12: =VLOOKUP(E12,[1]对接情况!$A:$E,5,FALSE) -> 支 | J12: =VLOOKUP(E12,[1]对接情况!$A:$F,6,FALSE) -> 支
A13: 3 | B13: 司库奇尤单抗注射液 | C13: 注射剂 | D13: 双通道管理及单独支付 | E13: XL04ACS271B002030178679 | F13: 1ml:150mg | G13: 可善挺 | H13: 1 | I13: =VLOOKUP(E13,[1]对接情况!$A:$E,5,FALSE) -> 支 | J13: =VLOOKUP(E13,[1]对接情况!$A:$F,6,FALSE) -> 盒
E14: XL04ACS271B002050178679 | F14: 2ml:300mg | G14: 可善挺 | H14: 1 | I14: =VLOOKUP(E14,[1]对接情况!$A:$E,5,FALSE) -> 支 | J14: =VLOOKUP(E14,[1]对接情况!$A:$F,6,FALSE) -> 盒
E15: XL04ACS271B002040178679 | F15: 0.5ml: 75mg | G15: 可善挺 | H15: 1 | I15: =VLOOKUP(E15,[1]对接情况!$A:$E,5,FALSE) -> 支 | J15: =VLOOKUP(E15,[1]对接情况!$A:$F,6,FALSE) -> 盒
A16: 4 | B16: 司来帕格片 | C16: 口服常释剂型 | D16: 双通道管理及单独支付 | E16: XB01ACS270A001030178189 | F16: 0.8mg | G16: 优拓比 | H16: 60 | I16: =VLOOKUP(E16,[1]对接情况!$A:$E,5,FALSE) -> 片 | J16: =VLOOKUP(E16,[1]对接情况!$A:$F,6,FALSE) -> 盒
E17: XB01ACS270A001020178189 | F17: 0.6mg | G17: 优拓比 | H17: 60 | I17: =VLOOKUP(E17,[1]对接情况!$A:$E,5,FALSE) -> 片 | J17: =VLOOKUP(E17,[1]对接情况!$A:$F,6,FALSE) -> 盒
E18: XB01ACS270A001010278189 | F18: 0.2mg | G18: 优拓比 | H18: 140 | I18: =VLOOKUP(E18,[1]对接情况!$A:$E,5,FALSE) -> 片 | J18: =VLOOKUP(E18,[1]对接情况!$A:$F,6,FALSE) -> 盒
E19: XB01ACS270A001010178189 | F19: 0.2mg | G19: 优拓比 | H19: 60 | I19: =VLOOKUP(E19,[1]对接情况!$A:$E,5,FALSE) -> 片 | J19: =VLOOKUP(E19,[1]对接情况!$A:$F,6,FALSE) -> 盒
E20: XB01ACS270A001020104522 | F20: 按司来帕格(C₂₆H₃₂N₄O₄S)计0.4mg | G20: 无 | H20: 56 | I20: 片 | J20: 盒
E21: XB01ACS270A001010204522 | F21: 按司来帕格(C₂₆H₃₂N₄O₄S)计0.2mg | G21: 无 | H21: 56 | I21: 片 | J21: 盒
C22: 片剂 | E22: XB01ACS270A001030204522 | F22: 按司来帕格(C₂₆H₃₂N₄O₄S)计0.8mg | G22: 无 | H22: 56 | I22: 片 | J22: 盒
E23: XB01ACS270A001010201444 | F23: 0.2mg | G23: 无 | H23: 60 | I23: 片 | J23: 盒
A24: 5 | B24: 波生坦 | C24: 口服常释剂型 | D24: 双通道管理及单独支付 | E24: XC02KXB144A006010178189 | F24: 32mg | G24: 全可利 | H24: 56 | I24: 片 | J24: 盒
E25: XC02KXB144A001010178189 | F25: 125mg(以C27H29N5O6S计) | G25: 全可利 | H25: 56 | I25: =VLOOKUP(E25,[1]对接情况!$A:$E,5,FALSE) -> 片 | J25: =VLOOKUP(E25,[1]对接情况!$A:$F,6,FALSE) -> 盒
A26: 6 | B26: 利奥西呱片 | C26: 口服常释剂型 | D26: 双通道管理及单独支付 | E26: XC02KXL363A001030178269 | F26: 2.5mg | G26: 安吉奥 | H26: 84 | I26: =VLOOKUP(E26,[1]对接情况!$A:$E,5,FALSE) -> 片 | J26: =VLOOKUP(E26,[1]对接情况!$A:$F,6,FALSE) -> 盒
E27: XC02KXL363A001020178269 | F27: 1mg | G27: 安吉奥 | H27: 42 | I27: =VLOOKUP(E27,[1]对接情况!$A:$E,5,FALSE) -> 片 | J27: =VLOOKUP(E27,[1]对接情况!$A:$F,6,FALSE) -> 盒
E28: XC02KXL363A001010178269 | F28: 0.5mg | G28: 安吉奥 | H28: 42 | I28: =VLOOKUP(E28,[1]对接情况!$A:$E,5,FALSE) -> 片 | J28: =VLOOKUP(E28,[1]对接情况!$A:$F,6,FALSE) -> 盒
E29: XC02KXL363A001020104021 | F29: 2.5mg | G29: 无 | H29: 42 | I29: 片 | J29: 盒
E30: XC02KXL363A001010104021 | F30: 1mg | G30: 无 | H30: 42 | I30: 片 | J30: 盒
C31: 片剂 | E31: XC02KXL363A001020284941 | F31: 2.5mg | G31: 无 | H31: 84 | I31: 片 | J31: 盒
E32: XC02KXL363A001010184941 | F32: 1mg | G32: 无 | H32: 42 | I32: 片 | J32: 盒
E33: XC02KXL363A001020184941 | F33: 2.5mg | G33: 无 | H33: 42 | I33: 片 | J33: 盒
E34: XC02KXL363A001030104565 | F34: 2.5mg | G34: 无 | H34: 42 | I34: 片 | J34: 盒
E35: XC02KXL363A001020104565 | F35: 1mg | G35: 无 | H35: 42 | I35: 片 | J35: 盒
A36: 7 | B36: 马昔腾坦片 | C36: 口服常释剂型 | D36: 双通道管理及单独支付 | E36: XC02KXM170A001010178189 | F36: 10mg | G36: 傲朴舒 | H36: 30 | I36: =VLOOKUP(E36,[1]对接情况!$A:$E,5,FALSE) -> 片 | J36: =VLOOKUP(E36,[1]对接情况!$A:$F,6,FALSE) -> 盒
E37: XC02KXM170A001010101606 | F37: 10mg | G37: 无 | H37: 30 | I37: =VLOOKUP(E37,[1]对接情况!$A:$E,5,FALSE) -> 片 | J37: =VLOOKUP(E37,[1]对接情况!$A:$F,6,FALSE) -> 盒
E38: XC02KXM170A001010104520 | F38: 10mg | G38: 无 | H38: 30 | I38: =VLOOKUP(E38,[1]对接情况!$A:$E,5,FALSE) -> 片 | J38: =VLOOKUP(E38,[1]对接情况!$A:$F,6,FALSE) -> 盒
E39: XC02KXM170A001010184207 | F39: 10mg | G39: 无 | H39: 30 | I39: =VLOOKUP(E39,[1]对接情况!$A:$E,5,FALSE) -> 片 | J39: =VLOOKUP(E39,[1]对接情况!$A:$F,6,FALSE) -> 盒
E40: XC02KXM170A001010183339 | F40: 10mg | G40: 无 | H40: 30 | I40: =VLOOKUP(E40,[1]对接情况!$A:$E,5,FALSE) -> 片 | J40: =VLOOKUP(E40,[1]对接情况!$A:$F,6,FALSE) -> 盒
C41: 片剂 | E41: XC02KXM170A001010104021 | F41: 10mg | G41: 无 | H41: 30 | I41: =VLOOKUP(E41,[1]对接情况!$A:$E,5,FALSE) -> 片 | J41: =VLOOKUP(E41,[1]对接情况!$A:$F,6,FALSE) -> 盒
A42: 8 | B42: 地塞米松玻璃体内植入剂 | C42: 玻璃体内植入剂 | D42: 双通道管理及单独支付 | E42: XS01LXD085J005010178976 | F42: 0.7mg | G42: 傲迪适 | H42: 1 | I42: 支 | J42: 盒
A43: 9 | B43: 阿柏西普眼内注射溶液 | C43: 眼内注射溶液 | D43: 双通道管理及单独支付 | E43: XS01LAA308G003010178269 | F43: 40mg/ml | G43: 艾力雅 | H43: 1 | I43: =VLOOKUP(E43,[1]对接情况!$A:$E,5,FALSE) -> 瓶 | J43: =VLOOKUP(E43,[1]对接情况!$A:$F,6,FALSE) -> 盒
E44: XS01LAA308G003010104021 | F44: 40mg/ml,每瓶可抽取体积为0.1ml,相当于4mg阿柏西普 | G44: 卓初明 | H44: 1 | I44: =VLOOKUP(E44,[1]对接情况!$A:$E,5,FALSE) -> 瓶 | J44: =VLOOKUP(E44,[1]对接情况!$A:$F,6,FALSE) -> 盒
E45: XS01LAA308G003010178262 | F45: 114.3mg/ml。单次给药0.07ml,相当于8mg阿柏西普。 | G45: 艾力雅 | H45: 1 | I45: 瓶 | J45: 盒
E46: XS01LAA308G003010183013 | F46: 4mg(40mg/ml,0.1ml) | G46: 博优景 | H46: 1 | I46: 瓶 | J46: 盒
A47: 10 | B47: 康柏西普眼用注射液 | C47: 眼用注射液 | D47: 双通道管理及单独支付 | E47: XS01LAK119B023010109681 | F47: 10 mg/mL,0.2 mL/支 | G47: 朗沐 | H47: 1 | I47: =VLOOKUP(E47,[1]对接情况!$A:$E,5,FALSE) -> 支 | J47: =VLOOKUP(E47,[1]对接情况!$A:$F,6,FALSE) -> 盒
E48: XS01LAK119B023020109681 | F48: 0.05ml（10mg/ml） | G48: 朗沐 | H48: 1 | I48: =VLOOKUP(E48,[1]对接情况!$A:$E,5,FALSE) -> 支 | J48: =VLOOKUP(E48,[1]对接情况!$A:$F,6,FALSE) -> 盒
A49: 11 | B49: 雷珠单抗注射液 | C49: 注射剂 | D49: 双通道管理及单独支付 | E49: XS01LAL328B002020178679 | F49: 10mg/ml,每瓶装量0.20ml | G49: 诺适得 | H49: 1 | I49: =VLOOKUP(E49,[1]对接情况!$A:$E,5,FALSE) -> 瓶 | J49: =VLOOKUP(E49,[1]对接情况!$A:$F,6,FALSE) -> 盒
E50: XS01LAL328B002010178679 | F50: 10mg/ml,每瓶装量0.165ml | G50: 诺适得 | H50: 1 | I50: =VLOOKUP(E50,[1]对接情况!$A:$E,5,FALSE) -> 瓶 | J50: =VLOOKUP(E50,[1]对接情况!$A:$F,6,FALSE) -> 盒
E51: XS01LAL328B002010104021 | F51: 10mg/ml,每瓶装量0.165ml | G51: 安卓明 | H51: 1 | I51: =VLOOKUP(E51,[1]对接情况!$A:$E,5,FALSE) -> 瓶 | J51: =VLOOKUP(E51,[1]对接情况!$A:$F,6,FALSE) -> 盒
A52: 12 | B52: 来迪派韦索磷布韦片 | C52: 口服常释剂型 | D52: 双通道管理及单独支付 | E52: XJ05APL372A001010182157 | F52: 每片含90mg来迪派韦和400mg索磷布韦 | G52: 夏帆宁 | H52: 28 | I52: =VLOOKUP(E52,[1]对接情况!$A:$E,5,FALSE) -> 片 | J52: =VLOOKUP(E52,[1]对接情况!$A:$F,6,FALSE) -> 瓶
A53: 13 | B53: 索磷布韦维帕他韦片 | C53: 口服常释剂型 | D53: 双通道管理及单独支付 | E53: XJ05APS268A001010182157 | F53: 每片含400mg索磷布韦和100mg维帕他韦 | G53: 丙通沙 | H53: 28 | I53: =VLOOKUP(E53,[1]对接情况!$A:$E,5,FALSE) -> 片 | J53: =VLOOKUP(E53,[1]对接情况!$A:$F,6,FALSE) -> 瓶
A54: 14 | B54: 盐酸可洛派韦胶囊 | C54: 口服常释剂型 | D54: 双通道管理及单独支付 | E54: XJ05APK138E001010109640 | F54: 60mg | G54: 无 | H54: 28 | I54: =VLOOKUP(E54,[1]对接情况!$A:$E,5,FALSE) -> 粒 | J54: =VLOOKUP(E54,[1]对接情况!$A:$F,6,FALSE) -> 盒
A55: 15 | B55: 艾考恩丙替片 | C55: 口服常释剂型 | D55: 双通道管理及单独支付 | E55: XJ05ARA315A001010178451 | F55: 每片含150mg艾维雷韦,150mg考比司他,200mg恩曲他滨和10mg丙酚替诺福韦 | G55: 捷扶康 | H55: 30 | I55: =VLOOKUP(E55,[1]对接情况!$A:$E,5,FALSE) -> 片 | J55: =VLOOKUP(E55,[1]对接情况!$A:$F,6,FALSE) -> 瓶
A56: 16 | B56: 奈韦拉平齐多拉米双夫定片 | C56: 口服常释剂型 | D56: 双通道管理及单独支付 | E56: XJ05ARN113A001010100648 | F56: 每片含奈韦拉平0.2g,齐多夫定0.3g和拉米夫定0.15g | G56: 吉唯久 | H56: 60 | I56: =VLOOKUP(E56,[1]对接情况!$A:$E,5,FALSE) -> 片 | J56: =VLOOKUP(E56,[1]对接情况!$A:$F,6,FALSE) -> 瓶
A57: 17 | B57: 注射用艾博韦泰 | C57: 注射剂 | D57: 双通道管理及单独支付 | E57: XJ05ARA311B001010182358 | F57: 160mg | G57: 艾可宁 | H57: 1 | I57: =VLOOKUP(E57,[1]对接情况!$A:$E,5,FALSE) -> 瓶 | J57: =VLOOKUP(E57,[1]对接情况!$A:$F,6,FALSE) -> 盒
A58: 18 | B58: 西尼莫德片 | C58: 口服常释剂型 | D58: 双通道管理及单独支付 | E58: XL04AAX246A001020178677 | F58: 2mg按C58H70F6N4O6计 | G58: 万立能 | H58: 28 | I58: =VLOOKUP(E58,[1]对接情况!$A:$E,5,FALSE) -> 片 | J58: =VLOOKUP(E58,[1]对接情况!$A:$F,6,FALSE) -> 盒
E59: XL04AAX246A001010178677 | F59: 0.25mg按C58H70F6N4O6计 | G59: 万立能 | H59: 12 | I59: =VLOOKUP(E59,[1]对接情况!$A:$E,5,FALSE) -> 片 | J59: =VLOOKUP(E59,[1]对接情况!$A:$F,6,FALSE) -> 盒
A60: 19 | B60: 盐酸芬戈莫德胶囊 | C60: 胶囊剂 | D60: 双通道管理及单独支付 | E60: XL04AAF715E001010178679 | F60: 0.5mg（按C19H33NO2计） | G60: 捷灵亚 | H60: 28 | I60: 粒 | J60: 盒
A61: 20 | B61: 麦格司他胶囊 | C61: 口服常释剂型 | D61: 双通道管理及单独支付 | E61: XA16AXM157E001010181328 | F61: 0.1g | G61: 泽维可 | H61: 84 | I61: =VLOOKUP(E61,[1]对接情况!$A:$E,5,FALSE) -> 粒 | J61: =VLOOKUP(E61,[1]对接情况!$A:$F,6,FALSE) -> 盒
A62: 21 | B62: 氘丁苯那嗪片 | C62: 口服常释剂型 | D62: 双通道管理及单独支付 | E62: XN05AXD342A001030182951 | F62: 12mg | G62: 安泰坦 | H62: 28 | I62: =VLOOKUP(E62,[1]对接情况!$A:$E,5,FALSE) -> 片 | J62: =VLOOKUP(E62,[1]对接情况!$A:$F,6,FALSE) -> 瓶
E63: XN05AXD342A001020182951 | F63: 9mg | G63: 安泰坦 | H63: 28 | I63: =VLOOKUP(E63,[1]对接情况!$A:$E,5,FALSE) -> 片 | J63: =VLOOKUP(E63,[1]对接情况!$A:$F,6,FALSE) -> 瓶
E64: XN05AXD342A001010182951 | F64: 6mg | G64: 安泰坦 | H64: 28 | I64: =VLOOKUP(E64,[1]对接情况!$A:$E,5,FALSE) -> 片 | J64: =VLOOKUP(E64,[1]对接情况!$A:$F,6,FALSE) -> 瓶
A65: 22 | B65: 醋酸兰瑞肽缓释注射液(预充式) | C65: 缓释注射剂（预充式） | D65: 双通道管理及单独支付 | E65: XH01CBL032B029020178274 | F65: 120mg(以兰瑞肽计) | G65: 无 | H65: 1 | I65: =VLOOKUP(E65,[1]对接情况!$A:$E,5,FALSE) -> 支 | J65: =VLOOKUP(E65,[1]对接情况!$A:$F,6,FALSE) -> 盒
E66: XH01CBL032B029010178274 | F66: 90mg(以兰瑞肽计) | G66: 无 | H66: 1 | I66: =VLOOKUP(E66,[1]对接情况!$A:$E,5,FALSE) -> 支 | J66: =VLOOKUP(E66,[1]对接情况!$A:$F,6,FALSE) -> 盒
A67: 23 | B67: 马来酸阿伐曲泊帕片 | C67: 口服常释剂型 | D67: 双通道管理及单独支付 | E67: XB02BXA336A001010282938 | F67: 20mg (按 C29H34CI2N6O3S2 计) | G67: 苏可欣 | H67: 15 | I67: =VLOOKUP(E67,[1]对接情况!$A:$E,5,FALSE) -> 片 | J67: =VLOOKUP(E67,[1]对接情况!$A:$F,6,FALSE) -> 盒
E68: XB02BXA336A001010182938 | F68: 20mg (按 C29H34CI2N6O3S2 计) | G68: 苏可欣 | H68: 10 | I68: =VLOOKUP(E68,[1]对接情况!$A:$E,5,FALSE) -> 片 | J68: =VLOOKUP(E68,[1]对接情况!$A:$F,6,FALSE) -> 盒
E69: XB02BXA336A001010401606 | F69: 20mg(按C₂₉H₃₄C₁₂N₆O₃S₂计) | G69: 无 | H69: 15 | I69: =VLOOKUP(E69,[1]对接情况!$A:$E,5,FALSE) -> 片 | J69: =VLOOKUP(E69,[1]对接情况!$A:$F,6,FALSE) -> 盒
E70: XB02BXA336A001010201606 | F70: 20mg(按C₂₉H₃₄C₁₂N₆O₃S₂计) | G70: 无 | H70: 10 | I70: =VLOOKUP(E70,[1]对接情况!$A:$E,5,FALSE) -> 片 | J70: =VLOOKUP(E70,[1]对接情况!$A:$F,6,FALSE) -> 盒
C71: 片剂 | E71: XB02BXA336A001010102013 | F71: 20mg(按C₂₉H₃₄Cl₂N₆O₃S₂计) | G71: 无 | H71: 10 | I71: =VLOOKUP(E71,[1]对接情况!$A:$E,5,FALSE) -> 片 | J71: =VLOOKUP(E71,[1]对接情况!$A:$F,6,FALSE) -> 盒
E72: XB02BXA336A001010104021 | F72: 20mg(按C₂₉H₃₄Cl₂N₆O₃S₂计) | G72: 无 | H72: 30 | I72: =VLOOKUP(E72,[1]对接情况!$A:$E,5,FALSE) -> 片 | J72: =VLOOKUP(E72,[1]对接情况!$A:$F,6,FALSE) -> 盒
E73: XB02BXA336A001010204021 | F73: 20mg(按C₂₉H₃₄Cl₂N₆O₃S₂计) | G73: 无 | H73: 10 | I73: =VLOOKUP(E73,[1]对接情况!$A:$E,5,FALSE) -> 片 | J73: =VLOOKUP(E73,[1]对接情况!$A:$F,6,FALSE) -> 盒
E74: XB02BXA336A001010305001 | F74: 20mg(按C29H34Cl2N6O3S2计) | G74: 无 | H74: 10 | I74: 片 | J74: 盒
E75: XB02BXA336A001010100073 | F75: 20mg(按C₂₉H₃₄Cl₂N₆O₃S₂计) | G75: 无 | H75: 10 | I75: 片 | J75: 盒
E76: XB02BXA336A001011983521 | F76: 20mg(按C₂₉H₃₄Cl₂N₆O₃S₂计) | G76: 无 | H76: 10 | I76: 片 | J76: 盒
E77: XB02BXA336A001010204085 | F77: 20mg(按C29H34Cl2N6O3S2计) | G77: 无 | H77: 14 | I77: 片 | J77: 盒
E78: XB02BXA336A001010204152 | F78: 20mg(按C₂₉H₃₄Cl₂N₆O₃S₂计) | G78: 无 | H78: 15 | I78: 片 | J78: 盒
E79: XB02BXA336A001010304488 | F79: 20mg(按C29H34Cl2N6O3S2计) | G79: 无 | H79: 30 | I79: 片 | J79: 盒
E80: XB02BXA336A001010104488 | F80: 20mg(按C29H34Cl2N6O3S2计) | G80: 无 | H80: 20 | I80: 片 | J80: 盒
E81: XB02BXA336A001010204488 | F81: 20mg(按C29H34Cl2N6O3S2计) | G81: 无 | H81: 10 | I81: 片 | J81: 盒
E82: XB02BXA336A001010184850 | F82: 20mg(按C₂₉H₃₄Cl₂N₆O₃S₂计) | G82: 无 | H82: 10 | I82: 片 | J82: 盒
E83: XB02BXA336A001010201425 | F83: 20mg(按C₂₉H₃₄Cl₂N₆O₃S₂计) | G83: 无 | H83: 10 | I83: 片 | J83: 盒
E84: XB02BXA336A001010101425 | F84: 20mg(按C₂₉H₃₄Cl₂N₆O₃S₂计) | G84: 无 | H84: 30 | I84: 片 | J84: 盒
E85: XB02BXA336A001010183585 | F85: 20mg(按C₂₉H₃₄Cl₂N₆O₃S₂计) | G85: 无 | H85: 10 | I85: 片 | J85: 盒
... E90: XB02BXA336A001010184223 | F90: 20mg(按C₂₉H₃₄Cl₂N₆O₃S₂计) | G90: 无 | H90: 10 | I90: 片 | J90: 盒
C91: 薄膜衣片 | E91: XB02BXA336A001020101606 | F91: 20mg(按C₂₉H₃₄Cl₂N₆O₃S₂计) | G91: 无 | H91: 30 | I91: 片 | J91: 盒
A92: 24 | B92: 注射用维得利珠单抗 | C92: 注射剂 | D92: 双通道管理及单独支付 | E92: XL04AAW118B001010179422 | F92: 300mg | G92: 安吉优 | H92: 1 | I92: =VLOOKUP(E92,[1]对接情况!$A:$E,5,FALSE) -> 瓶 | J92: =VLOOKUP(E92,[1]对接情况!$A:$F,6,FALSE) -> 盒
A93: 25 | B93: 度普利尤单抗注射液 | C93: 注射剂 | D93: 双通道管理及单独支付 | E93: XD11AHD344B002010282507 | F93: 300mg2.0mL/支预充式注射器 | G93: 达必妥 | H93: 1 | I93: =VLOOKUP(E93,[1]对接情况!$A:$E,5,FALSE) -> 支 | J93: =VLOOKUP(E93,[1]对接情况!$A:$F,6,FALSE) -> 盒
E94: XD11AHD344B002020182507 | F94: 200mg(1.14mL)/支 (预充式注射器) | G94: 达必妥 | H94: 1 | I94: =VLOOKUP(E94,[1]对接情况!$A:$E,5,FALSE) -> 支 | J94: =VLOOKUP(E94,[1]对接情况!$A:$F,6,FALSE) -> 盒
E95: XD11AHD344B002030182507 | F95: 300mg(2.0mL)/支(预充式注射笔) | G95: 达必妥 | H95: 1 | I95: 支 | J95: 支
A96: 26 | B96: 注射用贝利尤单抗 | C96: 注射剂 | D96: 双通道管理及单独支付 | E96: XL04AAB235B001010178453 | F96: 120mg/支,1支/盒 | G96: 倍力腾 | H96: 1 | I96: =VLOOKUP(E96,[1]对接情况!$A:$E,5,FALSE) -> 瓶 | J96: =VLOOKUP(E96,[1]对接情况!$A:$F,6,FALSE) -> 盒
A97: 27 | B97: 德拉马尼片 | C97: 口服常释剂型 | D97: 双通道管理及单独支付 | E97: XJ04AKD325A001010104619 | F97: 50mg | G97: 德尔巴 | H97: 60 | I97: =VLOOKUP(E97,[1]对接情况!$A:$E,5,FALSE) -> 片 | J97: =VLOOKUP(E97,[1]对接情况!$A:$F,6,FALSE) -> 盒
A98: 28 | B98: 注射用奥马珠单抗 | C98: 注射剂 | D98: 双通道管理及单独支付 | E98: XR03DXA305B001010178672 | F98: 每盒装奥马珠单抗150mg/瓶和灭菌注射用水2ml/瓶各1瓶。 | G98: 茁乐 | H98: 1 | I98: =VLOOKUP(E98,[1]对接情况!$A:$E,5,FALSE) -> 瓶 | J98: =VLOOKUP(E98,[1]对接情况!$A:$F,6,FALSE) -> 盒
E99: XR03DXA305B001010183422 | F99: 150mg/瓶 | G99: 恩益坦 | H99: 1 | I99: =VLOOKUP(E99,[1]对接情况!$A:$E,5,FALSE) -> 瓶 | J99: =VLOOKUP(E99,[1]对接情况!$A:$F,6,FALSE) -> 盒
A100: 29 | B100: 奥马珠单抗注射液 | C100: 注射剂 | D100: 双通道管理及单独支付 | E100: XR03DXA305B002010178672 | F100: 预充式注射器装:1.0ml:150mg | G100: 茁乐 | H100: 1 | I100: =VLOOKUP(E100,[1]对接情况!$A:$E,5,FALSE) -> 支 | J100: =VLOOKUP(E100,[1]对接情况!$A:$F,6,FALSE) -> 盒
A101: 30 | B101: 注射用奥马珠单抗α | C101: 注射剂 | D101: 双通道管理及单独支付 | E101: XR03DXA392B001010181463 | F101: 75mg/瓶 | G101: 无 | H101: 1 | I101: =VLOOKUP(E101,[1]对接情况!$A:$E,5,FALSE) -> 瓶 | J101: =VLOOKUP(E101,[1]对接情况!$A:$F,6,FALSE) -> 盒
E102: XR03DXA392B001020181463 | F102: 150mg/瓶 | G102: 无 | H102: 1 | I102: =VLOOKUP(E102,[1]对接情况!$A:$E,5,FALSE) -> 瓶 | J102: =VLOOKUP(E102,[1]对接情况!$A:$F,6,FALSE) -> 盒
A103: 31 | B103: 注射用醋酸奥曲肽微球 | C103: 微球注射剂 | D103: 双通道管理及单独支付 | E103: XH01CBA213B015020178679 | F103: 30mg | G103: 善龙 | H103: 1 | I103: =VLOOKUP(E103,[1]对接情况!$A:$E,5,FALSE) -> 瓶 | J103: =VLOOKUP(E103,[1]对接情况!$A:$F,6,FALSE) -> 盒
E104: XH01CBA213B015010178679 | F104: 20mg | G104: 善龙 | H104: 1 | I104: =VLOOKUP(E104,[1]对接情况!$A:$E,5,FALSE) -> 瓶 | J104: =VLOOKUP(E104,[1]对接情况!$A:$F,6,FALSE) -> 盒
...

Sheet 特殊情况说明
A1: 表1 纳入门特管理或按双通道管理及单独支付药品
A2: 序号 | B2: 药品名称 | C2: 药品限定支付范围 | D2: 纳入门特管理 （需办理国谈药备案及相应门特备案） | F2: 双通道管理及单独支付限定支付范围 （仅需办理国谈药备案）
D3: 病种名称 | E3: 限定支付范围
A4: 1 | B4: 注射用醋酸奥曲肽微球 | C4: 限胃肠胰内分泌肿瘤、肢端肥大症。 | D4: 恶性肿瘤治疗期 | E4: 限胃肠胰内分泌肿瘤。 | F4: 限肢端肥大症。 | G4: XH01CBA213B015010178679、XH01CBA213B015020178679、XH01CBA213B015020104021、XH01CBA213B015010104021
A5: 2 | B5: 泊沙康唑口服混悬液 | C5: 限以下情况方可支付：1.预防移植后（干细胞及实体器官移植）及恶性肿瘤患者有重度粒细胞缺乏的侵袭性曲霉菌和念球菌感染。2.伊曲康唑或氟康唑难治性口咽念珠菌病。3.接合菌纲类感染。 | D5: 恶性肿瘤治疗期、抗排异 | E5: 限以下情况方可支付：预防移植后（干细胞及实体器官移植）及恶性肿瘤患者有重度粒细胞缺乏的侵袭性曲霉菌和念球菌感染。 | F5: 限以下情况方可支付：1.伊曲康唑或氟康唑难治性口咽念珠菌病。2.接合菌纲类感染。 | G5: XJ02ACB206X002010180007、XJ02ACB206X002010104948
A6: 3 | B6: 依维莫司片 | C6: 限：1. 既往接受舒尼替尼或索拉非尼治疗失败的晚期肾细胞癌成人患者；2.不可切除的、局部晚期或转移性的、分化良好的(中度分化或高度分化)进展期胰腺神经内分泌瘤成人患者；3. 无法手术切除的、局部晚期或转移性的、分化良好的、进展期非功能性胃肠道或肺源神经内分泌肿瘤(NET)成人患者；4. 需要治疗干预但不适于手术切除的结节性硬化症(TSC)相关的室管膜下巨细胞星形细胞瘤(SEGA)成人和儿童患者；5. 用于治疗不需立即手术治疗的结节性硬化症相关的肾血管平滑肌脂肪瘤(TSC-AML)成人患者；6.来曲唑或阿那曲唑治疗失败后的激素受体阳性、表皮生长因子受体-2阴性、绝经后晚期女性乳腺癌患者。 | D6: 恶性肿瘤治疗期 | E6: 限：1. 既往接受舒尼替尼或索拉非尼治疗失败的晚期肾细胞癌成人患者；2.不可切除的、局部晚期或转移性的、分化良好的(中度分化或高度分化)进展期胰腺神经内分泌瘤成人患者；3. 无法手术切除的、局部晚期或转移性的、分化良好的、进展期非功能性胃肠道或肺源神经内分泌肿瘤(NET)成人患者；4. 需要治疗干预但不适于手术切除的结节性硬化症(TSC)相关的室管膜下巨细胞星形细胞瘤(SEGA)成人和儿童患者；5.来曲唑或阿那曲唑治疗失败后的激素受体阳性、表皮生长因子受体-2阴性、绝经后晚期女性乳腺癌患者。 | F6: 限：用于治疗不需立即手术治疗的结节性硬化症相关的肾血管平滑肌脂肪瘤(TSC-AML)成人患者。 | G6: XL04AAY270A001010178679、XL04AAY270A001020178679、XL04AAY270A001010201523、XL04AAY270A001010183445、XL04AAY270A001010104650、XL04AAY270A001020104650
A7: 4 | B7: 达雷妥尤单抗注射液(皮下注射) | C7: 限：1.与来那度胺和地塞米松联合用药或与硼替佐米、美法仑和泼尼松联合用药治疗不适合自体干细胞移植的新诊断的多发性骨髓瘤成年患者；2.与来那度胺和地塞米松联合用药或与硼替佐米和地塞米松联合用药治疗既往至少接受过一线治疗的多发性骨髓瘤成年患者；3.与泊马度胺和地塞米松联合用药治疗既往接受过至少一线治疗(包括来那度胺和蛋白酶体抑制剂)的多发性骨髓瘤患者；4.单药治疗复发和难治性多发性骨髓瘤成年患者，患者既往接受过包括蛋白酶体抑制剂和免疫调节剂的治疗且最后一次治疗时出现疾病进展；本方案不适合也不推荐用于患有NYHA ⅢB级或Ⅳ级心脏疾病或Mayo ⅢB期的原发性轻链型淀粉样变患者；5.限新诊断的原发性轻链型淀粉样变患者。本方案不适合也不推荐用于患有NYHA ⅢB级或Ⅳ级心脏疾病或Mayo ⅢB期的原发性轻链型淀粉样变患者。 | D7: 恶性肿瘤治疗期 | E7: 限：1.与来那度胺和地塞米松联合用药或与硼替佐米、美法仑和泼尼松联合用药治疗不适合自体干细胞移植的新诊断的多发性骨髓瘤成年患者；2.与来那度胺和地塞米松联合用药或与硼替佐米和地塞米松联合用药治疗既往至少接受过一线治疗的多发性骨髓瘤成年患者；3.与泊马度胺和地塞米松联合用药治疗既往接受过至少一线治疗(包括来那度胺和蛋白酶体抑制剂)的多发性骨髓瘤患者；4.单药治疗复发和难治性多发性骨髓瘤成年患者，患者既往接受过包括蛋白酶体抑制剂和免疫调节剂的治疗且最后一次治疗时出现疾病进展；本方案不适合也不推荐用于患有NYHA ⅢB级或Ⅳ级心脏疾病或Mayo ⅢB期的原发性轻链型淀粉样变患者。 | F7: 限新诊断的原发性轻链型淀粉样变患者。本方案不适合也不推荐用于患有NYHA ⅢB级或Ⅳ级心脏疾病或Mayo ⅢB期的原发性轻链型淀粉样变患者。 | G7: XL01FCD337B002030178537
A8: 5 | B8: 磷酸芦可替尼片 | C8: 限：1.中危或高危的原发性骨髓纤维化(PMF)(亦称为慢性特发性骨髓纤维化)、真性红细胞增多症继发的骨髓纤维化(PPV-MF)或原发性血小板增多症继发的骨髓纤维化(PET-MF)的成年患者；2.对糖皮质激素或其他系统治疗应答不充分的12岁及以上急性移植物抗宿主病(急性GVHD)或慢性移植物抗宿主病(慢性GVHD)患者。 | D8: 恶性肿瘤治疗期 | E8: 限：中危或高危的原发性骨髓纤维化(PMF)(亦称为慢性特发性骨髓纤维化)、真性红细胞增多症继发的骨髓纤维化(PPV-MF)或原发性血小板增多症继发的骨髓纤维化(PET-MF)的成年患者。 | F8: 限：对糖皮质激素或其他系统治疗应答不充分的12岁及以上急性移植物抗宿主病(急性GVHD)或慢性移植物抗宿主病(慢性GVHD)患者。 | G8: XL01EJL356A001010178672、XL01EJL356A001010378672
A10: 表2 按乙类药品管理或按双通道管理及单独支付药品
A11: 序号 | B11: 药品名称 | C11: 药品限定支付范围 | D11: 限定支付范围
D12: 按乙类药品管理管理 （无国谈药备案） | F12: 双通道管理及单独支付 （需办理国谈药备案）
A13: 1 | B13: 沙库巴曲缬沙坦钠片 | C13: 限：1.射血分数降低的慢性心力衰竭(NYHAⅡ-Ⅳ级，LVEF≤40%)成人患者；2.原发性高血压。 | D13: 原发性高血压。 | F13: 射血分数降低的慢性心力衰竭(NYHAⅡ-Ⅳ级，LVEF≤40%)成人患者。

Sheet 定点医药机构名单
A1: 序号 | B1: 定点单位名称 | C1: 行政区域 | D1: 机构性质
A2: 1 | B2: 苏州大学附属第一医院（苏州市第一人民医院） | C2: 市区 | D2: 医院
A3: 2 | B3: 苏州大学附属第二医院、核工业总医院、苏州大学附属第二医院互联网医院 | C3: 市区 | D3: 医院
A4: 3 | B4: 苏州市立医院（本部）、苏州市立医院互联网医院 | C4: 市区 | D4: 医院
A5: 4 | B5: 苏州市立医院（北区） | C5: 市区 | D5: 医院
A6: 5 | B6: 苏州市立医院（东区）、苏州市立医院互联网医院 | C6: 市区 | D6: 医院
A7: 6 | B7: 苏州市中医医院、苏州市中医医院互联网医院 | C7: 市区 | D7: 医院
A8: 7 | B8: 苏州市第五人民医院（苏州市传染病医院） | C8: 市区 | D8: 医院
A9: 8 | B9: 苏州市广济医院 | C9: 市区 | D9: 医院
A10: 9 | B10: 苏州大学附属儿童医院、苏州大学附属儿童医院互联网医院 | C10: 市区 | D10: 医院
A11: 10 | B11: 苏州九龙医院 | C11: 市区 | D11: 医院
A12: 11 | B12: 苏州明基医院、苏州明基医院互联网医院 | C12: 市区 | D12: 医院
A13: 12 | B13: 苏州科技城医院 | C13: 市区 | D13: 医院
... A181: 76 | B181: 京东大药房连锁（江苏）有限公司苏州苏大附医店 | C181: 市区 | D181: 药店
